BEGIN:VCALENDAR
VERSION:2.0
PRODID:https://github.com/derhansen/sf_event_mgt
METHOD:PUBLISH
BEGIN:VEVENT
UID:646-9@www.ssapm.ch
CLASS: PUBLIC
SUMMARY:Fortbildung KSB: Frau Dr. med. Claudia Keerl «Management der dekomp
 ensierten Leberzirrhose»
DESCRIPTION:
LOCATION:Baden
DTSTAMP:20240708T111305Z
DTSTART:20240821T061100Z
DTEND:20240821T181100Z
END:VEVENT
END:VCALENDAR
