BEGIN:VCALENDAR
VERSION:2.0
PRODID:https://github.com/derhansen/sf_event_mgt
METHOD:PUBLISH
BEGIN:VEVENT
UID:632-9@www.ssapm.ch
CLASS: PUBLIC
SUMMARY:Fortbildung KSB: Dr. Janine Härtli + Dr. Simone Menth, “Mystery Pat
 ient”
DESCRIPTION:
LOCATION:Baden
DTSTAMP:20240708T110352Z
DTSTART:20240815T060000Z
DTEND:20240815T180000Z
END:VEVENT
END:VCALENDAR
