BEGIN:VCALENDAR
VERSION:2.0
PRODID:https://github.com/derhansen/sf_event_mgt
METHOD:PUBLISH
BEGIN:VEVENT
UID:728-9@www.ssapm.ch
CLASS: PUBLIC
SUMMARY:EKG Update Refresher Grundkurs
DESCRIPTION:Site web et programme
LOCATION:Hybrid
DTSTAMP:20250403T131508Z
DTSTART:20250616T060000Z
DTEND:20250617T161200Z
END:VEVENT
END:VCALENDAR
