BEGIN:VCALENDAR
VERSION:2.0
PRODID:https://github.com/derhansen/sf_event_mgt
METHOD:PUBLISH
BEGIN:VEVENT
UID:589-9@www.ssapm.ch
CLASS: PUBLIC
SUMMARY:5. Schweizer Kongress für Telenotfallmedizin und Digital Health
DESCRIPTION:Site web
LOCATION:Bern
DTSTAMP:20240531T141201Z
DTSTART:20240613T060700Z
DTEND:20240613T160700Z
END:VEVENT
END:VCALENDAR
